BEGIN:VCALENDAR
VERSION:2.0
PRODID:-//Cathedral of the Pines - ECPv6.15.18//NONSGML v1.0//EN
CALSCALE:GREGORIAN
METHOD:PUBLISH
X-ORIGINAL-URL:https://www.cathedralofthepines.org
X-WR-CALDESC:Events for Cathedral of the Pines
REFRESH-INTERVAL;VALUE=DURATION:PT1H
X-Robots-Tag:noindex
X-PUBLISHED-TTL:PT1H
BEGIN:VTIMEZONE
TZID:America/New_York
BEGIN:DAYLIGHT
TZOFFSETFROM:-0500
TZOFFSETTO:-0400
TZNAME:EDT
DTSTART:20240310T070000
END:DAYLIGHT
BEGIN:STANDARD
TZOFFSETFROM:-0400
TZOFFSETTO:-0500
TZNAME:EST
DTSTART:20241103T060000
END:STANDARD
BEGIN:DAYLIGHT
TZOFFSETFROM:-0500
TZOFFSETTO:-0400
TZNAME:EDT
DTSTART:20250309T070000
END:DAYLIGHT
BEGIN:STANDARD
TZOFFSETFROM:-0400
TZOFFSETTO:-0500
TZNAME:EST
DTSTART:20251102T060000
END:STANDARD
BEGIN:DAYLIGHT
TZOFFSETFROM:-0500
TZOFFSETTO:-0400
TZNAME:EDT
DTSTART:20260308T070000
END:DAYLIGHT
BEGIN:STANDARD
TZOFFSETFROM:-0400
TZOFFSETTO:-0500
TZNAME:EST
DTSTART:20261101T060000
END:STANDARD
END:VTIMEZONE
BEGIN:VEVENT
DTSTART;VALUE=DATE:20250511
DTEND;VALUE=DATE:20250512
DTSTAMP:20260423T160057
CREATED:20250320T135426Z
LAST-MODIFIED:20250320T135426Z
UID:3723-1746921600-1747007999@www.cathedralofthepines.org
SUMMARY:Livingstone Motorcycle Ministry Blessings of the Bikes
DESCRIPTION:Hosted by Livingstone Motorcycle MinistryEnjoy free coffee and pastriesEvent kicks off at 11 AM
URL:https://www.cathedralofthepines.org/eventcalendar/livingstone-motorcycle-ministry-blessings-of-the-bikes/
LOCATION:NH
END:VEVENT
END:VCALENDAR